BEGIN:VCALENDAR
VERSION:2.0
PRODID:-//VALHALLA BAR Braunlage - ECPv6.15.20//NONSGML v1.0//EN
CALSCALE:GREGORIAN
METHOD:PUBLISH
X-ORIGINAL-URL:https://valhalla-harz.eu
X-WR-CALDESC:Veranstaltungen für VALHALLA BAR Braunlage
REFRESH-INTERVAL;VALUE=DURATION:PT1H
X-Robots-Tag:noindex
X-PUBLISHED-TTL:PT1H
BEGIN:VTIMEZONE
TZID:Europe/Berlin
BEGIN:DAYLIGHT
TZOFFSETFROM:+0100
TZOFFSETTO:+0200
TZNAME:CEST
DTSTART:20230326T010000
END:DAYLIGHT
BEGIN:STANDARD
TZOFFSETFROM:+0200
TZOFFSETTO:+0100
TZNAME:CET
DTSTART:20231029T010000
END:STANDARD
BEGIN:DAYLIGHT
TZOFFSETFROM:+0100
TZOFFSETTO:+0200
TZNAME:CEST
DTSTART:20240331T010000
END:DAYLIGHT
BEGIN:STANDARD
TZOFFSETFROM:+0200
TZOFFSETTO:+0100
TZNAME:CET
DTSTART:20241027T010000
END:STANDARD
BEGIN:DAYLIGHT
TZOFFSETFROM:+0100
TZOFFSETTO:+0200
TZNAME:CEST
DTSTART:20250330T010000
END:DAYLIGHT
BEGIN:STANDARD
TZOFFSETFROM:+0200
TZOFFSETTO:+0100
TZNAME:CET
DTSTART:20251026T010000
END:STANDARD
BEGIN:DAYLIGHT
TZOFFSETFROM:+0100
TZOFFSETTO:+0200
TZNAME:CEST
DTSTART:20260329T010000
END:DAYLIGHT
BEGIN:STANDARD
TZOFFSETFROM:+0200
TZOFFSETTO:+0100
TZNAME:CET
DTSTART:20261025T010000
END:STANDARD
BEGIN:DAYLIGHT
TZOFFSETFROM:+0100
TZOFFSETTO:+0200
TZNAME:CEST
DTSTART:20270328T010000
END:DAYLIGHT
BEGIN:STANDARD
TZOFFSETFROM:+0200
TZOFFSETTO:+0100
TZNAME:CET
DTSTART:20271031T010000
END:STANDARD
END:VTIMEZONE
BEGIN:VEVENT
DTSTART;TZID=Europe/Berlin:20251231T190000
DTEND;TZID=Europe/Berlin:20260101T020000
DTSTAMP:20260421T161314
CREATED:20250515T131434Z
LAST-MODIFIED:20250515T131434Z
UID:1257-1767207600-1767232800@valhalla-harz.eu
SUMMARY:Silvester 2024-2025
DESCRIPTION:Valhalla´s Silvester 2025-2026 \nTischreservierung für max. 20 Personen bis 19.12. für 2-4 Personen möglich \nEmpfang ab 19:00 Uhr mit Prosecco & Bier\nVon 20:00 bis 22:00 Uhr warmes Mitternachtsbuffet mit:\n* Vorsuppe\n* Salat\n* 2 Sorten Fleisch\n* Beilagen\n* Dessert\n* Welcome-2026-Drink mit Berliner \n€ 44\,50 p. Person
URL:https://valhalla-harz.eu/event/silvester-2024-2025-2/
ATTACH;FMTTYPE=image/jpeg:https://valhalla-harz.eu/wp-content/uploads/2024/10/Valhalla-Silvester-AdobeStock_1025250231-Kopie.jpg
END:VEVENT
BEGIN:VEVENT
DTSTART;TZID=Europe/Berlin:20250827T180000
DTEND;TZID=Europe/Berlin:20250827T210000
DTSTAMP:20260421T161314
CREATED:20250515T130218Z
LAST-MODIFIED:20250515T130218Z
UID:1252-1756317600-1756328400@valhalla-harz.eu
SUMMARY:Biker Stammtisch - Free Riders
DESCRIPTION:Jeder Biker 1 kostenfreies CARLSBERG
URL:https://valhalla-harz.eu/event/biker-stammtisch-free-riders-16/
CATEGORIES:Valhallas Biker Stammtisch
ATTACH;FMTTYPE=image/jpeg:https://valhalla-harz.eu/wp-content/uploads/2025/01/Thor.jpg
END:VEVENT
BEGIN:VEVENT
DTSTART;TZID=Europe/Berlin:20250820T180000
DTEND;TZID=Europe/Berlin:20250820T210000
DTSTAMP:20260421T161314
CREATED:20250515T130151Z
LAST-MODIFIED:20250515T130151Z
UID:1250-1755712800-1755723600@valhalla-harz.eu
SUMMARY:Biker Stammtisch - Free Riders
DESCRIPTION:Jeder Biker 1 kostenfreies CARLSBERG
URL:https://valhalla-harz.eu/event/biker-stammtisch-free-riders-15/
CATEGORIES:Valhallas Biker Stammtisch
ATTACH;FMTTYPE=image/jpeg:https://valhalla-harz.eu/wp-content/uploads/2025/01/Thor.jpg
END:VEVENT
BEGIN:VEVENT
DTSTART;TZID=Europe/Berlin:20250813T180000
DTEND;TZID=Europe/Berlin:20250813T210000
DTSTAMP:20260421T161314
CREATED:20250515T130120Z
LAST-MODIFIED:20250515T130120Z
UID:1248-1755108000-1755118800@valhalla-harz.eu
SUMMARY:Biker Stammtisch - Free Riders
DESCRIPTION:Jeder Biker 1 kostenfreies CARLSBERG
URL:https://valhalla-harz.eu/event/biker-stammtisch-free-riders-14/
CATEGORIES:Valhallas Biker Stammtisch
ATTACH;FMTTYPE=image/jpeg:https://valhalla-harz.eu/wp-content/uploads/2025/01/Thor.jpg
END:VEVENT
BEGIN:VEVENT
DTSTART;TZID=Europe/Berlin:20250806T180000
DTEND;TZID=Europe/Berlin:20250806T210000
DTSTAMP:20260421T161314
CREATED:20250515T130055Z
LAST-MODIFIED:20250515T130055Z
UID:1246-1754503200-1754514000@valhalla-harz.eu
SUMMARY:Biker Stammtisch - Free Riders
DESCRIPTION:Jeder Biker 1 kostenfreies CARLSBERG
URL:https://valhalla-harz.eu/event/biker-stammtisch-free-riders-13/
CATEGORIES:Valhallas Biker Stammtisch
ATTACH;FMTTYPE=image/jpeg:https://valhalla-harz.eu/wp-content/uploads/2025/01/Thor.jpg
END:VEVENT
BEGIN:VEVENT
DTSTART;TZID=Europe/Berlin:20250730T180000
DTEND;TZID=Europe/Berlin:20250730T210000
DTSTAMP:20260421T161314
CREATED:20250515T130000Z
LAST-MODIFIED:20250515T130000Z
UID:1244-1753898400-1753909200@valhalla-harz.eu
SUMMARY:Biker Stammtisch - Free Riders
DESCRIPTION:Jeder Biker 1 kostenfreies CARLSBERG
URL:https://valhalla-harz.eu/event/biker-stammtisch-free-riders-12/
CATEGORIES:Valhallas Biker Stammtisch
ATTACH;FMTTYPE=image/jpeg:https://valhalla-harz.eu/wp-content/uploads/2025/01/Thor.jpg
END:VEVENT
BEGIN:VEVENT
DTSTART;TZID=Europe/Berlin:20250723T180000
DTEND;TZID=Europe/Berlin:20250723T210000
DTSTAMP:20260421T161314
CREATED:20250515T125922Z
LAST-MODIFIED:20250515T125922Z
UID:1242-1753293600-1753304400@valhalla-harz.eu
SUMMARY:Biker Stammtisch - Free Riders
DESCRIPTION:Jeder Biker 1 kostenfreies CARLSBERG
URL:https://valhalla-harz.eu/event/biker-stammtisch-free-riders-11/
CATEGORIES:Valhallas Biker Stammtisch
ATTACH;FMTTYPE=image/jpeg:https://valhalla-harz.eu/wp-content/uploads/2025/01/Thor.jpg
END:VEVENT
BEGIN:VEVENT
DTSTART;TZID=Europe/Berlin:20250716T180000
DTEND;TZID=Europe/Berlin:20250716T210000
DTSTAMP:20260421T161314
CREATED:20250515T125849Z
LAST-MODIFIED:20250515T125849Z
UID:1240-1752688800-1752699600@valhalla-harz.eu
SUMMARY:Biker Stammtisch - Free Riders
DESCRIPTION:Jeder Biker 1 kostenfreies CARLSBERG
URL:https://valhalla-harz.eu/event/biker-stammtisch-free-riders-10/
CATEGORIES:Valhallas Biker Stammtisch
ATTACH;FMTTYPE=image/jpeg:https://valhalla-harz.eu/wp-content/uploads/2025/01/Thor.jpg
END:VEVENT
BEGIN:VEVENT
DTSTART;TZID=Europe/Berlin:20250709T180000
DTEND;TZID=Europe/Berlin:20250709T210000
DTSTAMP:20260421T161314
CREATED:20250515T125808Z
LAST-MODIFIED:20250515T125808Z
UID:1238-1752084000-1752094800@valhalla-harz.eu
SUMMARY:Biker Stammtisch - Free Riders
DESCRIPTION:Jeder Biker 1 kostenfreies CARLSBERG
URL:https://valhalla-harz.eu/event/biker-stammtisch-free-riders-9/
CATEGORIES:Valhallas Biker Stammtisch
ATTACH;FMTTYPE=image/jpeg:https://valhalla-harz.eu/wp-content/uploads/2025/01/Thor.jpg
END:VEVENT
BEGIN:VEVENT
DTSTART;TZID=Europe/Berlin:20250702T180000
DTEND;TZID=Europe/Berlin:20250702T210000
DTSTAMP:20260421T161314
CREATED:20250515T125739Z
LAST-MODIFIED:20250515T125739Z
UID:1236-1751479200-1751490000@valhalla-harz.eu
SUMMARY:Biker Stammtisch - Free Riders
DESCRIPTION:Jeder Biker 1 kostenfreies CARLSBERG
URL:https://valhalla-harz.eu/event/biker-stammtisch-free-riders-8/
CATEGORIES:Valhallas Biker Stammtisch
ATTACH;FMTTYPE=image/jpeg:https://valhalla-harz.eu/wp-content/uploads/2025/01/Thor.jpg
END:VEVENT
BEGIN:VEVENT
DTSTART;TZID=Europe/Berlin:20250625T180000
DTEND;TZID=Europe/Berlin:20250625T210000
DTSTAMP:20260421T161314
CREATED:20250515T125655Z
LAST-MODIFIED:20250515T125655Z
UID:1234-1750874400-1750885200@valhalla-harz.eu
SUMMARY:Biker Stammtisch - Free Riders
DESCRIPTION:Jeder Biker 1 kostenfreies CARLSBERG
URL:https://valhalla-harz.eu/event/biker-stammtisch-free-riders-7/
CATEGORIES:Valhallas Biker Stammtisch
ATTACH;FMTTYPE=image/jpeg:https://valhalla-harz.eu/wp-content/uploads/2025/01/Thor.jpg
END:VEVENT
BEGIN:VEVENT
DTSTART;TZID=Europe/Berlin:20250618T180000
DTEND;TZID=Europe/Berlin:20250618T210000
DTSTAMP:20260421T161314
CREATED:20250515T125616Z
LAST-MODIFIED:20250515T125616Z
UID:1232-1750269600-1750280400@valhalla-harz.eu
SUMMARY:Biker Stammtisch - Free Riders
DESCRIPTION:Jeder Biker 1 kostenfreies CARLSBERG
URL:https://valhalla-harz.eu/event/biker-stammtisch-free-riders-6/
CATEGORIES:Valhallas Biker Stammtisch
ATTACH;FMTTYPE=image/jpeg:https://valhalla-harz.eu/wp-content/uploads/2025/01/Thor.jpg
END:VEVENT
BEGIN:VEVENT
DTSTART;TZID=Europe/Berlin:20250611T180000
DTEND;TZID=Europe/Berlin:20250611T210000
DTSTAMP:20260421T161314
CREATED:20250515T125547Z
LAST-MODIFIED:20250515T125547Z
UID:1230-1749664800-1749675600@valhalla-harz.eu
SUMMARY:Biker Stammtisch - Free Riders
DESCRIPTION:Jeder Biker 1 kostenfreies CARLSBERG
URL:https://valhalla-harz.eu/event/biker-stammtisch-free-riders-5/
CATEGORIES:Valhallas Biker Stammtisch
ATTACH;FMTTYPE=image/jpeg:https://valhalla-harz.eu/wp-content/uploads/2025/01/Thor.jpg
END:VEVENT
BEGIN:VEVENT
DTSTART;TZID=Europe/Berlin:20250604T180000
DTEND;TZID=Europe/Berlin:20250604T210000
DTSTAMP:20260421T161314
CREATED:20250515T125457Z
LAST-MODIFIED:20250515T125457Z
UID:1228-1749060000-1749070800@valhalla-harz.eu
SUMMARY:Biker Stammtisch - Free Riders
DESCRIPTION:Jeder Biker 1 kostenfreies CARLSBERG
URL:https://valhalla-harz.eu/event/biker-stammtisch-free-riders-4/
CATEGORIES:Valhallas Biker Stammtisch
ATTACH;FMTTYPE=image/jpeg:https://valhalla-harz.eu/wp-content/uploads/2025/01/Thor.jpg
END:VEVENT
BEGIN:VEVENT
DTSTART;TZID=Europe/Berlin:20250529T100000
DTEND;TZID=Europe/Berlin:20250529T170000
DTSTAMP:20260421T161314
CREATED:20250515T131200Z
LAST-MODIFIED:20250519T073034Z
UID:1254-1748512800-1748538000@valhalla-harz.eu
SUMMARY:Himmelfahrtskommando - 1. VALHALLA´S BIRTHDAY
DESCRIPTION:HIMMELFAHRTKOMMANDO \nVALHALLA´S BIRTHDAY \nmit großer Ausfahrt!
URL:https://valhalla-harz.eu/event/himmelfahrtskommando-1-valhallas-birthday/
CATEGORIES:Himmelfahrt
ATTACH;FMTTYPE=image/jpeg:https://valhalla-harz.eu/wp-content/uploads/2025/05/DIN-A4-Plakat-Himmelfahrtskommando-Save-the-Date.jpg
END:VEVENT
BEGIN:VEVENT
DTSTART;TZID=Europe/Berlin:20250528T180000
DTEND;TZID=Europe/Berlin:20250528T210000
DTSTAMP:20260421T161314
CREATED:20250515T125409Z
LAST-MODIFIED:20250515T125409Z
UID:1226-1748455200-1748466000@valhalla-harz.eu
SUMMARY:Biker Stammtisch - Free Riders
DESCRIPTION:Jeder Biker 1 kostenfreies CARLSBERG
URL:https://valhalla-harz.eu/event/biker-stammtisch-free-riders-3/
CATEGORIES:Valhallas Biker Stammtisch
ATTACH;FMTTYPE=image/jpeg:https://valhalla-harz.eu/wp-content/uploads/2025/01/Thor.jpg
END:VEVENT
BEGIN:VEVENT
DTSTART;TZID=Europe/Berlin:20250521T180000
DTEND;TZID=Europe/Berlin:20250521T210000
DTSTAMP:20260421T161314
CREATED:20250515T125312Z
LAST-MODIFIED:20250515T125312Z
UID:1224-1747850400-1747861200@valhalla-harz.eu
SUMMARY:Biker Stammtisch - Free Riders
DESCRIPTION:Jeder Biker 1 kostenfreies CARLSBERG
URL:https://valhalla-harz.eu/event/biker-stammtisch-free-riders-2/
CATEGORIES:Valhallas Biker Stammtisch
ATTACH;FMTTYPE=image/jpeg:https://valhalla-harz.eu/wp-content/uploads/2025/01/Thor.jpg
END:VEVENT
BEGIN:VEVENT
DTSTART;TZID=Europe/Berlin:20250416T180000
DTEND;TZID=Europe/Berlin:20250416T210000
DTSTAMP:20260421T161314
CREATED:20250106T135257Z
LAST-MODIFIED:20250107T081937Z
UID:1211-1744826400-1744837200@valhalla-harz.eu
SUMMARY:Biker Stammtisch - Free Riders
DESCRIPTION:Jeder Biker 1 kostenfreies CARLSBERG
URL:https://valhalla-harz.eu/event/biker-stammtisch-free-riders/
CATEGORIES:Valhallas Biker Stammtisch
ATTACH;FMTTYPE=image/jpeg:https://valhalla-harz.eu/wp-content/uploads/2025/01/Thor.jpg
END:VEVENT
BEGIN:VEVENT
DTSTART;TZID=Europe/Berlin:20241231T190000
DTEND;TZID=Europe/Berlin:20250101T020000
DTSTAMP:20260421T161314
CREATED:20241204T115505Z
LAST-MODIFIED:20241204T115505Z
UID:1207-1735671600-1735696800@valhalla-harz.eu
SUMMARY:Silvester 2024-2025
DESCRIPTION:Valhalla´s Silvester 2024-2025 \nTischreservierung für max. 20 Personen bis 19.12. für 2-4 Personen möglich \nEmpfang ab 19:00 Uhr mit Prosecco & Bier\nVon 20:00 bis 22:00 Uhr warmes Mitternachtsbuffet mit:\n* Vorsuppe\n* Salat\n* 2 Sorten Fleisch\n* Beilagen\n* Dessert\n* Welcome-2025-Drink mit Berliner \n€ 39\,- p. Person
URL:https://valhalla-harz.eu/event/silvester-2024-2025/
ATTACH;FMTTYPE=image/jpeg:https://valhalla-harz.eu/wp-content/uploads/2024/10/Valhalla-Silvester-AdobeStock_1025250231-Kopie.jpg
END:VEVENT
BEGIN:VEVENT
DTSTART;VALUE=DATE:20241103
DTEND;VALUE=DATE:20241129
DTSTAMP:20260421T161314
CREATED:20241029T125213Z
LAST-MODIFIED:20241029T125213Z
UID:1182-1730592000-1732838399@valhalla-harz.eu
SUMMARY:Betriebsurlaub
DESCRIPTION:
URL:https://valhalla-harz.eu/event/betriebsurlaub/
ATTACH;FMTTYPE=image/jpeg:https://valhalla-harz.eu/wp-content/uploads/2024/10/Valhalla_Schiff_2.jpg
END:VEVENT
BEGIN:VEVENT
DTSTART;VALUE=DATE:20240628
DTEND;VALUE=DATE:20240709
DTSTAMP:20260421T161314
CREATED:20240615T052825Z
LAST-MODIFIED:20240618T084604Z
UID:1070-1719532800-1720483199@valhalla-harz.eu
SUMMARY:We are closed
DESCRIPTION:Liebe Gäste\, \nwir möchten euch darüber informieren\, dass die Valhalla Bar von Freitag\, den 28.06.2024 bis Montag\, den 08.07.2024 geschlossen bleibt. \nVielen Dank für euer Verständnis und wir freuen uns\, euch bald wieder begrüßen zu dürfen! \nEuer Valhalla Bar Braunlage Team
URL:https://valhalla-harz.eu/event/we-are-closed/
CATEGORIES:Closed
ATTACH;FMTTYPE=image/jpeg:https://valhalla-harz.eu/wp-content/uploads/2024/06/Valhalla-HP-We-are-closed.jpg
END:VEVENT
BEGIN:VEVENT
DTSTART;TZID=Europe/Berlin:20240620T180000
DTEND;TZID=Europe/Berlin:20240620T200000
DTSTAMP:20260421T161314
CREATED:20240614T072533Z
LAST-MODIFIED:20240619T104428Z
UID:1063-1718906400-1718913600@valhalla-harz.eu
SUMMARY:Biersommelier Abend
DESCRIPTION:Heute ist wieder soweit. Wir veranstalten einen Biersommelier Abend mit 8 Sorten Bier.\nBitte bucht rechtzeitig eure Plätze und schickt uns eure Reservierungsanfrage an tasting@valhalla-harz.eu \n 
URL:https://valhalla-harz.eu/event/biersommelier-abend/
CATEGORIES:Tastings
ATTACH;FMTTYPE=image/jpeg:https://valhalla-harz.eu/wp-content/uploads/2024/06/Insta-Post-Biersommelier-Abend.jpg
END:VEVENT
END:VCALENDAR